BEGIN:VCALENDAR
VERSION:2.0
PRODID:-//The Baker Street Bistro Mysteries  - ECPv6.15.20//NONSGML v1.0//EN
CALSCALE:GREGORIAN
METHOD:PUBLISH
X-WR-CALNAME:The Baker Street Bistro Mysteries 
X-ORIGINAL-URL:https://bakerstreetbistromysteries.com
X-WR-CALDESC:Events for The Baker Street Bistro Mysteries 
REFRESH-INTERVAL;VALUE=DURATION:PT1H
X-Robots-Tag:noindex
X-PUBLISHED-TTL:PT1H
BEGIN:VTIMEZONE
TZID:America/New_York
BEGIN:DAYLIGHT
TZOFFSETFROM:-0500
TZOFFSETTO:-0400
TZNAME:EDT
DTSTART:20180311T070000
END:DAYLIGHT
BEGIN:STANDARD
TZOFFSETFROM:-0400
TZOFFSETTO:-0500
TZNAME:EST
DTSTART:20181104T060000
END:STANDARD
BEGIN:DAYLIGHT
TZOFFSETFROM:-0500
TZOFFSETTO:-0400
TZNAME:EDT
DTSTART:20190310T070000
END:DAYLIGHT
BEGIN:STANDARD
TZOFFSETFROM:-0400
TZOFFSETTO:-0500
TZNAME:EST
DTSTART:20191103T060000
END:STANDARD
BEGIN:DAYLIGHT
TZOFFSETFROM:-0500
TZOFFSETTO:-0400
TZNAME:EDT
DTSTART:20200308T070000
END:DAYLIGHT
BEGIN:STANDARD
TZOFFSETFROM:-0400
TZOFFSETTO:-0500
TZNAME:EST
DTSTART:20201101T060000
END:STANDARD
END:VTIMEZONE
BEGIN:VEVENT
DTSTART;TZID=America/New_York:20191214T140000
DTEND;TZID=America/New_York:20191214T160000
DTSTAMP:20260419T081037
CREATED:20191126T163524Z
LAST-MODIFIED:20191126T163524Z
UID:631-1576332000-1576339200@bakerstreetbistromysteries.com
SUMMARY:Pee Dee Author Expo
DESCRIPTION:Don’t miss out on this Local Author Book Signing featuring Baker Street Bistro Mysteries author Georgia Griebel Gates and other South Carolina writers. \nThe Doctors Bruce and Lee Foundation Library is hosting the Pee Dee Author Expo on Saturday\, Dec. 14th\, 2019 from 2 to 4 p.m\, and we hope to see you there! \nSeventeen local authors will display and sell their books in the Joseph Stukes Meeting Room.  Come out and visit with the authors\, check out their books\, and purchase copies if desired. \nThe Friends of Florence County Library made this program possible\, so that local authors have a chance to shine. \nMore information about the expo is available at http://www.florencelibrary.org
URL:https://bakerstreetbistromysteries.com/event/pee-dee-author-expo
LOCATION:Doctors Bruce & Lee Foundation Library\, 509 S. Dargan Street\, Florence\, SC\, 29506\, United States
END:VEVENT
BEGIN:VEVENT
DTSTART;TZID=America/New_York:20191207T150000
DTEND;TZID=America/New_York:20191207T200000
DTSTAMP:20260419T081037
CREATED:20191202T195229Z
LAST-MODIFIED:20191202T195906Z
UID:649-1575730800-1575748800@bakerstreetbistromysteries.com
SUMMARY:Hemingway Christmas Festival
DESCRIPTION:Baker Street Bistro Mysteries and other vendors will have booths at the Hemingway Christmas Festival on December 7th in Hemingway\, SC. \nEveryone is invited! There will be pictures with Santa\, s’mores\, hot chocolate\, shopping\, music\, a bounce-house\, and tree decorating contest. \nGet in the Christmas spirit and pick up the Christmas Mystery while you’re there!
URL:https://bakerstreetbistromysteries.com/event/hemingway-christmas-festival
LOCATION:Hemingway SC\, 301 E Broad St.\, Hemingway\, SC\, 29554\, United States
CATEGORIES:Book Signing,Festival
END:VEVENT
BEGIN:VEVENT
DTSTART;TZID=America/New_York:20191206T110000
DTEND;TZID=America/New_York:20191206T130000
DTSTAMP:20260419T081037
CREATED:20191115T213208Z
LAST-MODIFIED:20191115T220832Z
UID:559-1575630000-1575637200@bakerstreetbistromysteries.com
SUMMARY:Book Signing at The Nook
DESCRIPTION:Baker Street Bistro Mysteries author Georgia Griebel Gates will be signing books at The Nook! \nGathering author Dianne Poston Owens will be there as well. \nPlease come on out to support local authors and get a book signed!
URL:https://bakerstreetbistromysteries.com/event/book-signing-at-the-nook
LOCATION:The Nook Bookstore\, 130 W. Carolina Ave.\, Hartsville\, SC\, 29550\, United States
CATEGORIES:Book Signing
END:VEVENT
BEGIN:VEVENT
DTSTART;TZID=America/New_York:20191130T100000
DTEND;TZID=America/New_York:20191130T160000
DTSTAMP:20260419T081037
CREATED:20191115T220645Z
LAST-MODIFIED:20191115T220756Z
UID:576-1575108000-1575129600@bakerstreetbistromysteries.com
SUMMARY:Small Business Saturday Artisan Market
DESCRIPTION:Stop in for coffee\, wine\, or a snack and pick up a book while you’re there! You can also support some great small businesses. Dolce Vita is one of the author’s favorite hangout spots!
URL:https://bakerstreetbistromysteries.com/event/small-business-saturday-artisan-market
LOCATION:Dolce Vita Cafe & More\, 160 S Dargan St.\, Florence\, SC\, 29506\, United States
CATEGORIES:Artisan Market,Small Business Saturday
END:VEVENT
BEGIN:VEVENT
DTSTART;TZID=America/New_York:20191123T150000
DTEND;TZID=America/New_York:20191123T180000
DTSTAMP:20260419T081037
CREATED:20191115T221639Z
LAST-MODIFIED:20191115T221738Z
UID:586-1574521200-1574532000@bakerstreetbistromysteries.com
SUMMARY:Author Booth at Hemingway Street Dance
DESCRIPTION:Baker Street Bistro Mysteries and author Dianne Poston Owens will have a booth at the Hemingway Street Dance in Hemingway\, SC on November 23rd from 3pm – 6pm. The festival will also have a Chili Cook-off and some great music.\n 
URL:https://bakerstreetbistromysteries.com/event/author-booth-at-hemingway-street-dance
LOCATION:Hemingway SC\, 301 E Broad St.\, Hemingway\, SC\, 29554\, United States
CATEGORIES:Book Signing,Festival
END:VEVENT
BEGIN:VEVENT
DTSTART;TZID=America/New_York:20191121T160000
DTEND;TZID=America/New_York:20191121T190000
DTSTAMP:20260419T081037
CREATED:20191115T222239Z
LAST-MODIFIED:20191115T222430Z
UID:591-1574352000-1574362800@bakerstreetbistromysteries.com
SUMMARY:Christmas Open House & Book Signing
DESCRIPTION:Join us for a the Christmas Open House and book signing at The Driggers House in Scranton\, SC on Thursday\, November 21st from 4pm – 7pm.\n 
URL:https://bakerstreetbistromysteries.com/event/christmas-open-house-book-signing
LOCATION:The Driggers House\, 260 East Myrtle Beach Highway\, Scranton\, SC\, 29591\, United States
CATEGORIES:Book Signing,Open House
END:VEVENT
END:VCALENDAR